BEGIN:VCALENDAR
VERSION:2.0
PRODID:-//Energetic Well Being - ECPv5.1.4//NONSGML v1.0//EN
CALSCALE:GREGORIAN
METHOD:PUBLISH
X-WR-CALNAME:Energetic Well Being
X-ORIGINAL-URL:https://ewbp.com
X-WR-CALDESC:Events for Energetic Well Being
BEGIN:VTIMEZONE
TZID:UTC
BEGIN:STANDARD
TZOFFSETFROM:+0000
TZOFFSETTO:+0000
TZNAME:UTC
DTSTART:20180101T000000
END:STANDARD
END:VTIMEZONE
BEGIN:VEVENT
DTSTART;TZID=UTC:20180623T140000
DTEND;TZID=UTC:20180623T160000
DTSTAMP:20260423T153106
CREATED:20180511T221320Z
LAST-MODIFIED:20180514T164036Z
UID:513-1529762400-1529769600@ewbp.com
SUMMARY:WEBINAR: free intro to 6-month program and participant clearings
DESCRIPTION:LeRoy will be hosting four FREE 2-hour webinars to describe and illustrate the 6-month Coaching & Clearing Program starting on September 8th!\nThe content will be the same in each webinar – you only need to attend one to learn all about it!  He’ll also be doing clearings on webinar participants! \nAll webinars will be done using ZOOM.  More info on how to connect to the webinars will be coming soon! \n
URL:https://ewbp.com/event/webiner-free-intro-to-6-month-program-and-participant-clearings/
END:VEVENT
END:VCALENDAR