BEGIN:VCALENDAR
VERSION:2.0
PRODID:-//Energetic Well Being - ECPv5.1.4//NONSGML v1.0//EN
CALSCALE:GREGORIAN
METHOD:PUBLISH
X-WR-CALNAME:Energetic Well Being
X-ORIGINAL-URL:https://ewbp.com
X-WR-CALDESC:Events for Energetic Well Being
BEGIN:VTIMEZONE
TZID:UTC
BEGIN:STANDARD
TZOFFSETFROM:+0000
TZOFFSETTO:+0000
TZNAME:UTC
DTSTART:20180101T000000
END:STANDARD
END:VTIMEZONE
BEGIN:VEVENT
DTSTART;TZID=UTC:20180811T120000
DTEND;TZID=UTC:20180811T133000
DTSTAMP:20260423T111422
CREATED:20180511T221600Z
LAST-MODIFIED:20180625T174058Z
UID:517-1533988800-1533994200@ewbp.com
SUMMARY:WEBINAR: free intro to 6-month Program and Group Clearing Session
DESCRIPTION:Join LeRoy on this FREE webinar where he’ll describe and illustrate the 6-month Coaching & Clearing Program starting on September 8th!\nThe content will be the same in each webinar – you only need to attend one to learn all about it!  He’ll also be doing a Group Clearing Session with webinar participants! \nAll webinars will be done using ZOOM.  Visit our WORKSHOPS page for details on how to join the webinar! \n
URL:https://ewbp.com/event/webinar-free-intro-to-6-month-program-and-participant-clearings-2/
END:VEVENT
END:VCALENDAR